BEGIN:VCALENDAR
VERSION:2.0
PRODID:-//Contratero//ES
CALSCALE:GREGORIAN
METHOD:PUBLISH
BEGIN:VEVENT
UID:2026-008@contratero.es
DTSTAMP:20260421T140914Z
DTSTART:20260311T235959
DTEND:20260312T005959
SUMMARY:Cierre: Programa de concienciación para el Uso Responsable
DESCRIPTION:Programa de concienciación para el Uso Responsable de Tecnologías Digitales e Inteligencia Artificial\\n\\nOrganismo: Presidencia de la Autoridad Portuaria de la Bahía de Algeciras\\n\\nVer en Contratero: https://contratero.es/contracts/2026-008
URL:https://contratero.es/contracts/2026-008
STATUS:CONFIRMED
BEGIN:VALARM
TRIGGER:-P1D
ACTION:DISPLAY
DESCRIPTION:Recordatorio: Programa de concienciación par
END:VALARM
END:VEVENT
END:VCALENDAR