BEGIN:VCALENDAR
VERSION:2.0
PRODID:-//Contratero//ES
CALSCALE:GREGORIAN
METHOD:PUBLISH
BEGIN:VEVENT
UID:2026-03-PNSP@contratero.es
DTSTAMP:20260419T233438Z
DTSTART:20260213T235959
DTEND:20260214T005959
SUMMARY:Cierre: Servicio de consultoría y análisis de las necesida
DESCRIPTION:Servicio de consultoría y análisis de las necesidades de la aplicación contable APLINED\, así como la formación a los usuarios para la correcta utilización de dicho programa.\\n\\nOrganismo: Dirección del Consorcio Universitario del Centro Asociado a la UNED en Calatayud\\n\\nVer en Contratero: https://contratero.es/contracts/2026-03-PNSP
URL:https://contratero.es/contracts/2026-03-PNSP
STATUS:CONFIRMED
BEGIN:VALARM
TRIGGER:-P1D
ACTION:DISPLAY
DESCRIPTION:Recordatorio: Servicio de consultoría y anál
END:VALARM
END:VEVENT
END:VCALENDAR