BEGIN:VCALENDAR
VERSION:2.0
PRODID:-//Contratero//ES
CALSCALE:GREGORIAN
METHOD:PUBLISH
BEGIN:VEVENT
UID:2026-10@contratero.es
DTSTAMP:20260419T135308Z
DTSTART:20260203T235959
DTEND:20260204T005959
SUMMARY:Cierre: Servicios de accesibilidad WEB para los sitios WEB
DESCRIPTION:Servicios de accesibilidad WEB para los sitios WEB y APPS de EMACSA\\n\\nOrganismo: Consejo de Administración de la Empresa Municipal de Aguas de Córdoba\, S.A.\\n\\nVer en Contratero: https://contratero.es/contracts/2026-10
URL:https://contratero.es/contracts/2026-10
STATUS:CONFIRMED
BEGIN:VALARM
TRIGGER:-P1D
ACTION:DISPLAY
DESCRIPTION:Recordatorio: Servicios de accesibilidad WEB
END:VALARM
END:VEVENT
END:VCALENDAR