BEGIN:VCALENDAR
VERSION:2.0
PRODID:-//Contratero//ES
CALSCALE:GREGORIAN
METHOD:PUBLISH
BEGIN:VEVENT
UID:2026-P031@contratero.es
DTSTAMP:20260419T234322Z
DTSTART:20260313T235959
DTEND:20260314T005959
SUMMARY:Cierre: Servicio de mantenimiento de licencias Control-M
DESCRIPTION:Servicio de mantenimiento de licencias Control-M\\n\\nOrganismo: Consejo de Administración de la Sociedad de Gestión de Activos procedentes de la Reestructuración Bancaria\, S.A\\n\\nVer en Contratero: https://contratero.es/contracts/2026-P031
URL:https://contratero.es/contracts/2026-P031
STATUS:CONFIRMED
BEGIN:VALARM
TRIGGER:-P1D
ACTION:DISPLAY
DESCRIPTION:Recordatorio: Servicio de mantenimiento de l
END:VALARM
END:VEVENT
END:VCALENDAR