BEGIN:VCALENDAR
VERSION:2.0
PRODID:-//Contratero//ES
CALSCALE:GREGORIAN
METHOD:PUBLISH
BEGIN:VEVENT
UID:2026/005/01@contratero.es
DTSTAMP:20260420T071856Z
DTSTART:20260220T235959
DTEND:20260221T005959
SUMMARY:Cierre: Contratación de los servicios de mantenimiento cor
DESCRIPTION:Contratación de los servicios de mantenimiento correctivo-evolutivo de la aplicación informática para los/as trabajadores protegidos por Mutualia\\n\\nOrganismo: Dirección Gerencia de Mutualia\, Mutua Colaboradora con la Seguridad Social nº 02\\n\\nVer en Contratero: https://contratero.es/contracts/2026/005/01
URL:https://contratero.es/contracts/2026/005/01
STATUS:CONFIRMED
BEGIN:VALARM
TRIGGER:-P1D
ACTION:DISPLAY
DESCRIPTION:Recordatorio: Contratación de los servicios 
END:VALARM
END:VEVENT
END:VCALENDAR