BEGIN:VCALENDAR
VERSION:2.0
PRODID:-//Contratero//ES
CALSCALE:GREGORIAN
METHOD:PUBLISH
BEGIN:VEVENT
UID:2026/011/01@contratero.es
DTSTAMP:20260419T220827Z
DTSTART:20260320T235959
DTEND:20260321T005959
SUMMARY:Cierre: Contratación de la gestión de licencias\, servicio 
DESCRIPTION:Contratación de la gestión de licencias\, servicio de mantenimiento y soporte global de la infraestructura del entorno Citrix\, Xenapp y Netscaler para Mutualia\\n\\nOrganismo: Dirección Gerencia de Mutualia\, Mutua Colaboradora con la Seguridad Social nº 02\\n\\nVer en Contratero: https://contratero.es/contracts/2026/011/01
URL:https://contratero.es/contracts/2026/011/01
STATUS:CONFIRMED
BEGIN:VALARM
TRIGGER:-P1D
ACTION:DISPLAY
DESCRIPTION:Recordatorio: Contratación de la gestión de 
END:VALARM
END:VEVENT
END:VCALENDAR