BEGIN:VCALENDAR
VERSION:2.0
PRODID:-//Contratero//ES
CALSCALE:GREGORIAN
METHOD:PUBLISH
BEGIN:VEVENT
UID:2026/1805@contratero.es
DTSTAMP:20260420T164926Z
DTSTART:20260330T235959
DTEND:20260331T005959
SUMMARY:Cierre: Soporte y mantenimiento de las aplicaciones inform
DESCRIPTION:Soporte y mantenimiento de las aplicaciones informáticas suministradas por la empresa ODILO TID\, S.L. para el ayuntamiento de Pinto.\\n\\nOrganismo: Concejal de Contratación del Ayuntamiento de Pinto\\n\\nVer en Contratero: https://contratero.es/contracts/2026/1805
URL:https://contratero.es/contracts/2026/1805
STATUS:CONFIRMED
BEGIN:VALARM
TRIGGER:-P1D
ACTION:DISPLAY
DESCRIPTION:Recordatorio: Soporte y mantenimiento de las
END:VALARM
END:VEVENT
END:VCALENDAR