BEGIN:VCALENDAR
VERSION:2.0
PRODID:-//Contratero//ES
CALSCALE:GREGORIAN
METHOD:PUBLISH
BEGIN:VEVENT
UID:2026/540440/006-212/00001@contratero.es
DTSTAMP:20260420T011945Z
DTSTART:20260324T235959
DTEND:20260325T005959
SUMMARY:Cierre: Suministro de licencias software y servicios asoci
DESCRIPTION:Suministro de licencias software y servicios asociados para el entorno digital del CPEIS del Poniente Almeriense\\n\\nOrganismo: PRESIDENCIA CONSORCIO DE PREVENCION\, EXTINCION DE INCENDIOS Y SALVAMENTO DEL PONIENTE ALMERIENSE\\n\\nVer en Contratero: https://contratero.es/contracts/2026/540440/006-212/00001
URL:https://contratero.es/contracts/2026/540440/006-212/00001
STATUS:CONFIRMED
BEGIN:VALARM
TRIGGER:-P1D
ACTION:DISPLAY
DESCRIPTION:Recordatorio: Suministro de licencias softwa
END:VALARM
END:VEVENT
END:VCALENDAR