BEGIN:VCALENDAR
VERSION:2.0
PRODID:-//Contratero//ES
CALSCALE:GREGORIAN
METHOD:PUBLISH
BEGIN:VEVENT
UID:2026/ASI_02/000001@contratero.es
DTSTAMP:20260420T104359Z
DTSTART:20260209T235959
DTEND:20260210T005959
SUMMARY:Cierre: Renovación de las licencias de VmWare instaladas e
DESCRIPTION:Renovación de las licencias de VmWare instaladas en 6 de los nodos integrantes del entorno de hiperconvergencia y virtualización de\nEPICSA\\n\\nOrganismo: Delegada de la Empresa Provincial de Informática de Cádiz S.A. - EPICSA\\n\\nVer en Contratero: https://contratero.es/contracts/2026/ASI_02/000001
URL:https://contratero.es/contracts/2026/ASI_02/000001
STATUS:CONFIRMED
BEGIN:VALARM
TRIGGER:-P1D
ACTION:DISPLAY
DESCRIPTION:Recordatorio: Renovación de las licencias de
END:VALARM
END:VEVENT
END:VCALENDAR