BEGIN:VCALENDAR
VERSION:2.0
PRODID:-//Contratero//ES
CALSCALE:GREGORIAN
METHOD:PUBLISH
BEGIN:VEVENT
UID:2026/LIC/0001@contratero.es
DTSTAMP:20260421T171633Z
DTSTART:20260213T235959
DTEND:20260214T005959
SUMMARY:Cierre: Migración de versión de la Plataforma Kubernetes o
DESCRIPTION:Migración de versión de la Plataforma Kubernetes on-premise de EGARSAT\, Mutua Colaboradora con la Seguridad Social Nº 276.\\n\\nOrganismo: Gerencia de EGARSAT\\n\\nVer en Contratero: https://contratero.es/contracts/2026/LIC/0001
URL:https://contratero.es/contracts/2026/LIC/0001
STATUS:CONFIRMED
BEGIN:VALARM
TRIGGER:-P1D
ACTION:DISPLAY
DESCRIPTION:Recordatorio: Migración de versión de la Pla
END:VALARM
END:VEVENT
END:VCALENDAR