BEGIN:VCALENDAR
VERSION:2.0
PRODID:-//Contratero//ES
CALSCALE:GREGORIAN
METHOD:PUBLISH
BEGIN:VEVENT
UID:2026/LIC/0008@contratero.es
DTSTAMP:20260422T021019Z
DTSTART:20260226T235959
DTEND:20260227T005959
SUMMARY:Cierre: Implementación de un sistema de copias de segurida
DESCRIPTION:Implementación de un sistema de copias de seguridad M365 para EGARSAT\, Mutua Colaboradora con la Seguridad Social Nº 276.\\n\\nOrganismo: Gerencia de EGARSAT\\n\\nVer en Contratero: https://contratero.es/contracts/2026/LIC/0008
URL:https://contratero.es/contracts/2026/LIC/0008
STATUS:CONFIRMED
BEGIN:VALARM
TRIGGER:-P1D
ACTION:DISPLAY
DESCRIPTION:Recordatorio: Implementación de un sistema d
END:VALARM
END:VEVENT
END:VCALENDAR