BEGIN:VCALENDAR
VERSION:2.0
PRODID:-//Contratero//ES
CALSCALE:GREGORIAN
METHOD:PUBLISH
BEGIN:VEVENT
UID:2026/LIC/0015@contratero.es
DTSTAMP:20260420T030530Z
DTSTART:20260409T235959
DTEND:20260410T005959
SUMMARY:Cierre: Plataforma de protección del endpoint (EDR/XDR) pa
DESCRIPTION:Plataforma de protección del endpoint (EDR/XDR) para EGARSAT\, Mutua Colaboradora con la Seguridad Social Nº 276.\\n\\nOrganismo: Gerencia de EGARSAT\\n\\nVer en Contratero: https://contratero.es/contracts/2026/LIC/0015
URL:https://contratero.es/contracts/2026/LIC/0015
STATUS:CONFIRMED
BEGIN:VALARM
TRIGGER:-P1D
ACTION:DISPLAY
DESCRIPTION:Recordatorio: Plataforma de protección del e
END:VALARM
END:VEVENT
END:VCALENDAR