BEGIN:VCALENDAR
VERSION:2.0
PRODID:-//Contratero//ES
CALSCALE:GREGORIAN
METHOD:PUBLISH
BEGIN:VEVENT
UID:2026/T00011@contratero.es
DTSTAMP:20260419T154827Z
DTSTART:20260326T235959
DTEND:20260327T005959
SUMMARY:Cierre: Alquiler de uso ilimitado mediante licencia campus
DESCRIPTION:Alquiler de uso ilimitado mediante licencia campus del software ArcGIS para la Universidad de Valladolid.\\n\\nOrganismo: Rectorado de la Universidad de Valladolid\\n\\nVer en Contratero: https://contratero.es/contracts/2026/T00011
URL:https://contratero.es/contracts/2026/T00011
STATUS:CONFIRMED
BEGIN:VALARM
TRIGGER:-P1D
ACTION:DISPLAY
DESCRIPTION:Recordatorio: Alquiler de uso ilimitado medi
END:VALARM
END:VEVENT
END:VCALENDAR