BEGIN:VCALENDAR
VERSION:2.0
PRODID:-//Contratero//ES
CALSCALE:GREGORIAN
METHOD:PUBLISH
BEGIN:VEVENT
UID:202600000006@contratero.es
DTSTAMP:20260421T154023Z
DTSTART:20260303T235959
DTEND:20260304T005959
SUMMARY:Cierre: Servicio de ayuda de comida para el personal del C
DESCRIPTION:Servicio de ayuda de comida para el personal del Comisionado para el Mercado de Tabacos\\n\\nOrganismo: Comisionado para el Mercado de Tabacos\\n\\nVer en Contratero: https://contratero.es/contracts/202600000006
URL:https://contratero.es/contracts/202600000006
STATUS:CONFIRMED
BEGIN:VALARM
TRIGGER:-P1D
ACTION:DISPLAY
DESCRIPTION:Recordatorio: Servicio de ayuda de comida pa
END:VALARM
END:VEVENT
END:VCALENDAR