BEGIN:VCALENDAR
VERSION:2.0
PRODID:-//Contratero//ES
CALSCALE:GREGORIAN
METHOD:PUBLISH
BEGIN:VEVENT
UID:202600000026@contratero.es
DTSTAMP:20260419T174514Z
DTSTART:20260413T235959
DTEND:20260414T005959
SUMMARY:Cierre: Contratación de una plataforma que permita el desa
DESCRIPTION:Contratación de una plataforma que permita el desarrollo de las prestaciones del sistema de gestión automatizada de la visita (SIGAV) en el Museo Nacional Centro de Arte Reina Sofía\\n\\nOrganismo: Dirección del Museo Nacional Centro de Arte Reina Sofía\\n\\nVer en Contratero: https://contratero.es/contracts/202600000026
URL:https://contratero.es/contracts/202600000026
STATUS:CONFIRMED
BEGIN:VALARM
TRIGGER:-P1D
ACTION:DISPLAY
DESCRIPTION:Recordatorio: Contratación de una plataforma
END:VALARM
END:VEVENT
END:VCALENDAR