BEGIN:VCALENDAR
VERSION:2.0
PRODID:-//Contratero//ES
CALSCALE:GREGORIAN
METHOD:PUBLISH
BEGIN:VEVENT
UID:2026018_ASUs@contratero.es
DTSTAMP:20260419T205140Z
DTSTART:20260401T235959
DTEND:20260402T005959
SUMMARY:Cierre: Suministro de diversas licencias software para el 
DESCRIPTION:Suministro de diversas licencias software para el ayuntamiento de alcorcón\\n\\nOrganismo: Junta de Gobierno del Ayuntamiento de Alcorcón\\n\\nVer en Contratero: https://contratero.es/contracts/2026018_ASUs
URL:https://contratero.es/contracts/2026018_ASUs
STATUS:CONFIRMED
BEGIN:VALARM
TRIGGER:-P1D
ACTION:DISPLAY
DESCRIPTION:Recordatorio: Suministro de diversas licenci
END:VALARM
END:VEVENT
END:VCALENDAR