BEGIN:VCALENDAR
VERSION:2.0
PRODID:-//Contratero//ES
CALSCALE:GREGORIAN
METHOD:PUBLISH
BEGIN:VEVENT
UID:202605PSS001@contratero.es
DTSTAMP:20260420T044618Z
DTSTART:20260318T235959
DTEND:20260319T005959
SUMMARY:Cierre: Suministro de derechos de uso de activos informáti
DESCRIPTION:Suministro de derechos de uso de activos informáticos en nube para los grupos de trabajo de la unidad técnica de SNOMED\\n\\nOrganismo: Dirección General de Salud Digital y Sistemas de Información del Sistema Nacional de Salud\\n\\nVer en Contratero: https://contratero.es/contracts/202605PSS001
URL:https://contratero.es/contracts/202605PSS001
STATUS:CONFIRMED
BEGIN:VALARM
TRIGGER:-P1D
ACTION:DISPLAY
DESCRIPTION:Recordatorio: Suministro de derechos de uso 
END:VALARM
END:VEVENT
END:VCALENDAR