BEGIN:VCALENDAR
VERSION:2.0
PRODID:-//Contratero//ES
CALSCALE:GREGORIAN
METHOD:PUBLISH
BEGIN:VEVENT
UID:2028-2025@contratero.es
DTSTAMP:20260425T201228Z
DTSTART:20251211T235959
DTEND:20251212T005959
SUMMARY:Cierre: Creación de un servicio de rutas y espacios intera
DESCRIPTION:Creación de un servicio de rutas y espacios interactivos con realidad aumentada. Explora Ribagorza\\n\\nOrganismo: Presidencia de la Comarca de la Ribagorza\\n\\nVer en Contratero: https://contratero.es/contracts/2028-2025
URL:https://contratero.es/contracts/2028-2025
STATUS:CONFIRMED
BEGIN:VALARM
TRIGGER:-P1D
ACTION:DISPLAY
DESCRIPTION:Recordatorio: Creación de un servicio de rut
END:VALARM
END:VEVENT
END:VCALENDAR