BEGIN:VCALENDAR
VERSION:2.0
PRODID:-//Contratero//ES
CALSCALE:GREGORIAN
METHOD:PUBLISH
BEGIN:VEVENT
UID:2032SE1CT137@contratero.es
DTSTAMP:20260425T155231Z
DTSTART:20201021T235959
DTEND:20201022T005959
SUMMARY:Cierre: elaboracion y ejecucion de la evaluacion externa d
DESCRIPTION:elaboracion y ejecucion de la evaluacion externa de la coordinacion interna y del impacto de las acciones tecnicas en el marco del proyecto 0475_localcir_4_e. programa interreg v-a españa-portugal (po...\\n\\nOrganismo: Consejería de Agricultura\, Desarrollo Rural\, Población y Territorio\\n\\nVer en Contratero: https://contratero.es/contracts/2032SE1CT137
URL:https://contratero.es/contracts/2032SE1CT137
STATUS:CONFIRMED
BEGIN:VALARM
TRIGGER:-P1D
ACTION:DISPLAY
DESCRIPTION:Recordatorio: elaboracion y ejecucion de la 
END:VALARM
END:VEVENT
END:VCALENDAR