BEGIN:VCALENDAR
VERSION:2.0
PRODID:-//Contratero//ES
CALSCALE:GREGORIAN
METHOD:PUBLISH
BEGIN:VEVENT
UID:2039/2022@contratero.es
DTSTAMP:20260421T205528Z
DTSTART:20221028T235959
DTEND:20221029T005959
SUMMARY:Cierre: Contrato de suministro\, montaje e instalación del 
DESCRIPTION:Contrato de suministro\, montaje e instalación del equipo de sonido para el salón de actos del Ayuntamiento\\n\\nOrganismo: Alcaldía del Ayuntamiento de Náquera\\n\\nVer en Contratero: https://contratero.es/contracts/2039/2022
URL:https://contratero.es/contracts/2039/2022
STATUS:CONFIRMED
BEGIN:VALARM
TRIGGER:-P1D
ACTION:DISPLAY
DESCRIPTION:Recordatorio: Contrato de suministro\, montaj
END:VALARM
END:VEVENT
END:VCALENDAR