BEGIN:VCALENDAR
VERSION:2.0
PRODID:-//Contratero//ES
CALSCALE:GREGORIAN
METHOD:PUBLISH
BEGIN:VEVENT
UID:2040002364@contratero.es
DTSTAMP:20260420T011709Z
DTSTART:20241226T235959
DTEND:20241227T005959
SUMMARY:Cierre: Suministro de licencias de software de productivid
DESCRIPTION:Suministro de licencias de software de productividad y colaboración para las necesidades de ofimática\, gestión de proyectos\, videoconferencia y correo electrónico del personal de la Gerencia Regional ...\\n\\nOrganismo: Gerencia Regional de Salud de Castilla y León\\n\\nVer en Contratero: https://contratero.es/contracts/2040002364
URL:https://contratero.es/contracts/2040002364
STATUS:CONFIRMED
BEGIN:VALARM
TRIGGER:-P1D
ACTION:DISPLAY
DESCRIPTION:Recordatorio: Suministro de licencias de sof
END:VALARM
END:VEVENT
END:VCALENDAR