BEGIN:VCALENDAR
VERSION:2.0
PRODID:-//Contratero//ES
CALSCALE:GREGORIAN
METHOD:PUBLISH
BEGIN:VEVENT
UID:206/2024@contratero.es
DTSTAMP:20260424T051008Z
DTSTART:20240529T235959
DTEND:20240530T005959
SUMMARY:Cierre: Adquisición de licencias de software estandarizado
DESCRIPTION:Adquisición de licencias de software estandarizado para el Ayuntamiento de Albalat de la Ribera\n- Lote 1. Software de edición de ficheros pdf y editor de imágenes.\n- Lote 2. AutoCAD Revit LT Suite i...\\n\\nOrganismo: Alcaldía del Ayuntamiento de Albalat de la Ribera\\n\\nVer en Contratero: https://contratero.es/contracts/206/2024
URL:https://contratero.es/contracts/206/2024
STATUS:CONFIRMED
BEGIN:VALARM
TRIGGER:-P1D
ACTION:DISPLAY
DESCRIPTION:Recordatorio: Adquisición de licencias de so
END:VALARM
END:VEVENT
END:VCALENDAR