BEGIN:VCALENDAR
VERSION:2.0
PRODID:-//Contratero//ES
CALSCALE:GREGORIAN
METHOD:PUBLISH
BEGIN:VEVENT
UID:2064/2022@contratero.es
DTSTAMP:20260423T222312Z
DTSTART:20220524T235959
DTEND:20220525T005959
SUMMARY:Cierre: Contrato de servicio de mantenimiento Info-Tourist
DESCRIPTION:Contrato de servicio de mantenimiento Info-Tourist\\n\\nOrganismo: Junta de Gobierno del Ayuntamiento de El Campello\\n\\nVer en Contratero: https://contratero.es/contracts/2064/2022
URL:https://contratero.es/contracts/2064/2022
STATUS:CONFIRMED
BEGIN:VALARM
TRIGGER:-P1D
ACTION:DISPLAY
DESCRIPTION:Recordatorio: Contrato de servicio de manten
END:VALARM
END:VEVENT
END:VCALENDAR