BEGIN:VCALENDAR
VERSION:2.0
PRODID:-//Contratero//ES
CALSCALE:GREGORIAN
METHOD:PUBLISH
BEGIN:VEVENT
UID:2064/2025@contratero.es
DTSTAMP:20260420T011701Z
DTSTART:20251013T235959
DTEND:20251014T005959
SUMMARY:Cierre: Servicios Desarrollo de Página Web- Plataforma de 
DESCRIPTION:Servicios Desarrollo de Página Web- Plataforma de Reserva\, Gestión de Paquetes Turísticos\, Integración en el Canal de Ventas. Plan De Recuperación\, Transformación Y Resiliencia- Financiado por la UE-N...\\n\\nOrganismo: Alcaldia del Ayuntamiento de San Javier\\n\\nVer en Contratero: https://contratero.es/contracts/2064/2025
URL:https://contratero.es/contracts/2064/2025
STATUS:CONFIRMED
BEGIN:VALARM
TRIGGER:-P1D
ACTION:DISPLAY
DESCRIPTION:Recordatorio: Servicios Desarrollo de Página
END:VALARM
END:VEVENT
END:VCALENDAR