BEGIN:VCALENDAR
VERSION:2.0
PRODID:-//Contratero//ES
CALSCALE:GREGORIAN
METHOD:PUBLISH
BEGIN:VEVENT
UID:2072/2025@contratero.es
DTSTAMP:20260422T104252Z
DTSTART:20251030T235959
DTEND:20251031T005959
SUMMARY:Cierre: adjudicar un contrato cuyo objeto es el asesoramie
DESCRIPTION:adjudicar un contrato cuyo objeto es el asesoramiento y mantenimiento de la aplicación contable sicalwin\\n\\nOrganismo: Junta de Gobierno Local del Ayuntamiento de Alhendín\\n\\nVer en Contratero: https://contratero.es/contracts/2072/2025
URL:https://contratero.es/contracts/2072/2025
STATUS:CONFIRMED
BEGIN:VALARM
TRIGGER:-P1D
ACTION:DISPLAY
DESCRIPTION:Recordatorio: adjudicar un contrato cuyo obj
END:VALARM
END:VEVENT
END:VCALENDAR