BEGIN:VCALENDAR
VERSION:2.0
PRODID:-//Contratero//ES
CALSCALE:GREGORIAN
METHOD:PUBLISH
BEGIN:VEVENT
UID:20840014900@contratero.es
DTSTAMP:20260424T184445Z
DTSTART:20200915T235959
DTEND:20200916T005959
SUMMARY:Cierre: Servicios de Gestión y sistemas\,mantenimiento y de
DESCRIPTION:Servicios de Gestión y sistemas\,mantenimiento y desarrollo de aplicaciones para el DIT en los ámbitos del sistema de análisis de la información\, big data\, minería de datos y tecnologías del lenguaje\, ...\\n\\nOrganismo: Dirección General de la Agencia Estatal de Administración Tributaria\\n\\nVer en Contratero: https://contratero.es/contracts/20840014900
URL:https://contratero.es/contracts/20840014900
STATUS:CONFIRMED
BEGIN:VALARM
TRIGGER:-P1D
ACTION:DISPLAY
DESCRIPTION:Recordatorio: Servicios de Gestión y sistema
END:VALARM
END:VEVENT
END:VCALENDAR