BEGIN:VCALENDAR
VERSION:2.0
PRODID:-//Contratero//ES
CALSCALE:GREGORIAN
METHOD:PUBLISH
BEGIN:VEVENT
UID:20840061700@contratero.es
DTSTAMP:20260425T005330Z
DTSTART:20201215T235959
DTEND:20201216T005959
SUMMARY:Cierre: Servicios de mantenimiento y desarrollo de aplicac
DESCRIPTION:Servicios de mantenimiento y desarrollo de aplicaciones para el Departamento de Informática Tributaria en distintos ámbitos responsabilidad de la SGTAIIF y Subdirección de Aplicaciones de Aduanas\\n\\nOrganismo: Dirección del Servicio de Gestión Económica de la Agencia Estatal de la Administración Tributaria\\n\\nVer en Contratero: https://contratero.es/contracts/20840061700
URL:https://contratero.es/contracts/20840061700
STATUS:CONFIRMED
BEGIN:VALARM
TRIGGER:-P1D
ACTION:DISPLAY
DESCRIPTION:Recordatorio: Servicios de mantenimiento y d
END:VALARM
END:VEVENT
END:VCALENDAR