BEGIN:VCALENDAR
VERSION:2.0
PRODID:-//Contratero//ES
CALSCALE:GREGORIAN
METHOD:PUBLISH
BEGIN:VEVENT
UID:2091120003700@contratero.es
DTSTAMP:20260424T233319Z
DTSTART:20200804T235959
DTEND:20200805T005959
SUMMARY:Cierre: AM Adquisición de librerías de cifra software
DESCRIPTION:AM Adquisición de librerías de cifra software\\n\\nOrganismo: Jefatura de Asuntos Económicos del Mando de Apoyo Logístico\\n\\nVer en Contratero: https://contratero.es/contracts/2091120003700
URL:https://contratero.es/contracts/2091120003700
STATUS:CONFIRMED
BEGIN:VALARM
TRIGGER:-P1D
ACTION:DISPLAY
DESCRIPTION:Recordatorio: AM Adquisición de librerías de
END:VALARM
END:VEVENT
END:VCALENDAR