BEGIN:VCALENDAR
VERSION:2.0
PRODID:-//Contratero//ES
CALSCALE:GREGORIAN
METHOD:PUBLISH
BEGIN:VEVENT
UID:2091120003800@contratero.es
DTSTAMP:20260424T214211Z
DTSTART:20201008T235959
DTEND:20201009T005959
SUMMARY:Cierre: Adquisición Gescomet V4 Fase II
DESCRIPTION:Adquisición Gescomet V4 Fase II\\n\\nOrganismo: Jefatura de Asuntos Económicos del Mando de Apoyo Logístico\\n\\nVer en Contratero: https://contratero.es/contracts/2091120003800
URL:https://contratero.es/contracts/2091120003800
STATUS:CONFIRMED
BEGIN:VALARM
TRIGGER:-P1D
ACTION:DISPLAY
DESCRIPTION:Recordatorio: Adquisición Gescomet V4 Fase I
END:VALARM
END:VEVENT
END:VCALENDAR