BEGIN:VCALENDAR
VERSION:2.0
PRODID:-//Contratero//ES
CALSCALE:GREGORIAN
METHOD:PUBLISH
BEGIN:VEVENT
UID:21.803-0994/0411@contratero.es
DTSTAMP:20260424T215821Z
DTSTART:20200721T235959
DTEND:20200722T005959
SUMMARY:Cierre: Asistencia técnica para el mantenimiento de softw
DESCRIPTION:Asistencia técnica para el mantenimiento de software y ayuda a la explotación del sistema de gestión de información hidrológica Wiski en la DGA y en las Confederaciones Hidrográficas. Fase 2\\n\\nOrganismo: Dirección General del Agua\\n\\nVer en Contratero: https://contratero.es/contracts/21.803-0994/0411
URL:https://contratero.es/contracts/21.803-0994/0411
STATUS:CONFIRMED
BEGIN:VALARM
TRIGGER:-P1D
ACTION:DISPLAY
DESCRIPTION:Recordatorio: Asistencia técnica para el ma
END:VALARM
END:VEVENT
END:VCALENDAR