BEGIN:VCALENDAR
VERSION:2.0
PRODID:-//Contratero//ES
CALSCALE:GREGORIAN
METHOD:PUBLISH
BEGIN:VEVENT
UID:21/AM-LICENCIAS@contratero.es
DTSTAMP:20260422T214820Z
DTSTART:20210524T235959
DTEND:20210525T005959
SUMMARY:Cierre: Acuerdo Marco para el suministro\nde licencias de 
DESCRIPTION:Acuerdo Marco para el suministro\nde licencias de usuario final de software para la docencia\, la investigación y la administración\ncon coberturas de mantenimiento y soporte.\\n\\nOrganismo: Rectorado de la Universidad de Sevilla\\n\\nVer en Contratero: https://contratero.es/contracts/21/AM-LICENCIAS
URL:https://contratero.es/contracts/21/AM-LICENCIAS
STATUS:CONFIRMED
BEGIN:VALARM
TRIGGER:-P1D
ACTION:DISPLAY
DESCRIPTION:Recordatorio: Acuerdo Marco para el suminist
END:VALARM
END:VEVENT
END:VCALENDAR