BEGIN:VCALENDAR
VERSION:2.0
PRODID:-//Contratero//ES
CALSCALE:GREGORIAN
METHOD:PUBLISH
BEGIN:VEVENT
UID:212/2022@contratero.es
DTSTAMP:20260421T223329Z
DTSTART:20220215T235959
DTEND:20220216T005959
SUMMARY:Cierre: Servicio electrónico de gestión de venta de entrad
DESCRIPTION:Servicio electrónico de gestión de venta de entradas por internet y en taquilla (en el Teatro Municipal “Las Cigüeñas y en el Centro de Cultura) de los espectáculos programados para el Teatro Municipa...\\n\\nOrganismo: Junta de Gobierno Local del Ayuntamiento de Hoyo de Manzanares\\n\\nVer en Contratero: https://contratero.es/contracts/212/2022
URL:https://contratero.es/contracts/212/2022
STATUS:CONFIRMED
BEGIN:VALARM
TRIGGER:-P1D
ACTION:DISPLAY
DESCRIPTION:Recordatorio: Servicio electrónico de gestió
END:VALARM
END:VEVENT
END:VCALENDAR