BEGIN:VCALENDAR
VERSION:2.0
PRODID:-//Contratero//ES
CALSCALE:GREGORIAN
METHOD:PUBLISH
BEGIN:VEVENT
UID:2132SE5CT153@contratero.es
DTSTAMP:20260423T000650Z
DTSTART:20210907T235959
DTEND:20210908T005959
SUMMARY:Cierre: Desarrollo de una herramienta tecnológica de simbi
DESCRIPTION:Desarrollo de una herramienta tecnológica de simbiosis industrial para promover la crea ción de circuitos cerrados en la región Euroace en el marco del Proyecto transfronterizo 0475_LOCALCIR_4_E. Prog...\\n\\nOrganismo: Consejería de Agricultura\, Desarrollo Rural\, Población y Territorio\\n\\nVer en Contratero: https://contratero.es/contracts/2132SE5CT153
URL:https://contratero.es/contracts/2132SE5CT153
STATUS:CONFIRMED
BEGIN:VALARM
TRIGGER:-P1D
ACTION:DISPLAY
DESCRIPTION:Recordatorio: Desarrollo de una herramienta 
END:VALARM
END:VEVENT
END:VCALENDAR