BEGIN:VCALENDAR
VERSION:2.0
PRODID:-//Contratero//ES
CALSCALE:GREGORIAN
METHOD:PUBLISH
BEGIN:VEVENT
UID:217/2020@contratero.es
DTSTAMP:20260424T203556Z
DTSTART:20200309T235959
DTEND:20200310T005959
SUMMARY:Cierre: Suscripción anual a la base de datos en línea Ibis
DESCRIPTION:Suscripción anual a la base de datos en línea Ibis World\\n\\nOrganismo: Consejo de Administración de ICEX España Exportación e Inversiones\, E.P.E.\, M.P.\\n\\nVer en Contratero: https://contratero.es/contracts/217/2020
URL:https://contratero.es/contracts/217/2020
STATUS:CONFIRMED
BEGIN:VALARM
TRIGGER:-P1D
ACTION:DISPLAY
DESCRIPTION:Recordatorio: Suscripción anual a la base de
END:VALARM
END:VEVENT
END:VCALENDAR