BEGIN:VCALENDAR
VERSION:2.0
PRODID:-//Contratero//ES
CALSCALE:GREGORIAN
METHOD:PUBLISH
BEGIN:VEVENT
UID:21840067100@contratero.es
DTSTAMP:20260422T210218Z
DTSTART:20210920T235959
DTEND:20210921T005959
SUMMARY:Cierre: Servicios de mantenimiento y desarrollo de aplicac
DESCRIPTION:Servicios de mantenimiento y desarrollo de aplicaciones informáticas para el impulso de la transformación digital del Departamento de Informática Tributaria de la Agencia Estatal de Administración Tri...\\n\\nOrganismo: Dirección General de la Agencia Estatal de Administración Tributaria\\n\\nVer en Contratero: https://contratero.es/contracts/21840067100
URL:https://contratero.es/contracts/21840067100
STATUS:CONFIRMED
BEGIN:VALARM
TRIGGER:-P1D
ACTION:DISPLAY
DESCRIPTION:Recordatorio: Servicios de mantenimiento y d
END:VALARM
END:VEVENT
END:VCALENDAR