BEGIN:VCALENDAR
VERSION:2.0
PRODID:-//Contratero//ES
CALSCALE:GREGORIAN
METHOD:PUBLISH
BEGIN:VEVENT
UID:219.24.001@contratero.es
DTSTAMP:20260420T164903Z
DTSTART:20250130T235959
DTEND:20250131T005959
SUMMARY:Cierre: Servicio de mantenimiento del software LIMS del la
DESCRIPTION:Servicio de mantenimiento del software LIMS del laboratorio de calidad de aguas de la Confederación Hidrográfica del Segura\, O.A.\\n\\nOrganismo: Presidencia de la Confederación Hidrográfica del Segura\\n\\nVer en Contratero: https://contratero.es/contracts/219.24.001
URL:https://contratero.es/contracts/219.24.001
STATUS:CONFIRMED
BEGIN:VALARM
TRIGGER:-P1D
ACTION:DISPLAY
DESCRIPTION:Recordatorio: Servicio de mantenimiento del 
END:VALARM
END:VEVENT
END:VCALENDAR