BEGIN:VCALENDAR
VERSION:2.0
PRODID:-//Contratero//ES
CALSCALE:GREGORIAN
METHOD:PUBLISH
BEGIN:VEVENT
UID:21A019@contratero.es
DTSTAMP:20260424T013059Z
DTSTART:20210803T235959
DTEND:20210804T005959
SUMMARY:Cierre: Adquisición de Sistema de Avisos a la Población de
DESCRIPTION:Adquisición de Sistema de Avisos a la Población de la Red de Alerta Nacional (RAN-PWS).\\n\\nOrganismo: Dirección General de Protección Civil y Emergencias\\n\\nVer en Contratero: https://contratero.es/contracts/21A019
URL:https://contratero.es/contracts/21A019
STATUS:CONFIRMED
BEGIN:VALARM
TRIGGER:-P1D
ACTION:DISPLAY
DESCRIPTION:Recordatorio: Adquisición de Sistema de Avis
END:VALARM
END:VEVENT
END:VCALENDAR