BEGIN:VCALENDAR
VERSION:2.0
PRODID:-//Contratero//ES
CALSCALE:GREGORIAN
METHOD:PUBLISH
BEGIN:VEVENT
UID:21P/22@contratero.es
DTSTAMP:20260424T013054Z
DTSTART:20220428T235959
DTEND:20220429T005959
SUMMARY:Cierre: Soporte y Mantenimiento aplicación WCronos
DESCRIPTION:Soporte y Mantenimiento aplicación WCronos\\n\\nOrganismo: Presidencia de la Diputación Provincial de Cuenca\\n\\nVer en Contratero: https://contratero.es/contracts/21P/22
URL:https://contratero.es/contracts/21P/22
STATUS:CONFIRMED
BEGIN:VALARM
TRIGGER:-P1D
ACTION:DISPLAY
DESCRIPTION:Recordatorio: Soporte y Mantenimiento aplica
END:VALARM
END:VEVENT
END:VCALENDAR