BEGIN:VCALENDAR
VERSION:2.0
PRODID:-//Contratero//ES
CALSCALE:GREGORIAN
METHOD:PUBLISH
BEGIN:VEVENT
UID:22-188@contratero.es
DTSTAMP:20260421T204402Z
DTSTART:20221006T235959
DTEND:20221007T005959
SUMMARY:Cierre: Renovación anual de las licencias de Citrix de los
DESCRIPTION:Renovación anual de las licencias de Citrix de los sistemas T.I. de EMASA.\\n\\nOrganismo: Consejero Delegado de la Empresa Municipal de Aguas de Málaga S.A.\\n\\nVer en Contratero: https://contratero.es/contracts/22-188
URL:https://contratero.es/contracts/22-188
STATUS:CONFIRMED
BEGIN:VALARM
TRIGGER:-P1D
ACTION:DISPLAY
DESCRIPTION:Recordatorio: Renovación anual de las licenc
END:VALARM
END:VEVENT
END:VCALENDAR