BEGIN:VCALENDAR
VERSION:2.0
PRODID:-//Contratero//ES
CALSCALE:GREGORIAN
METHOD:PUBLISH
BEGIN:VEVENT
UID:22/02679@contratero.es
DTSTAMP:20260422T133037Z
DTSTART:20220420T235959
DTEND:20220421T005959
SUMMARY:Cierre: Mantenimiento\, Actualización y Desarrollo de la Ac
DESCRIPTION:Mantenimiento\, Actualización y Desarrollo de la Actual Aplicación de Servicios Web Conexos para la Gestión de Documentación y el Control de Accesos a la Universidad de Sevilla\, integrado en el marco d...\\n\\nOrganismo: Rectorado de la Universidad de Sevilla\\n\\nVer en Contratero: https://contratero.es/contracts/22/02679
URL:https://contratero.es/contracts/22/02679
STATUS:CONFIRMED
BEGIN:VALARM
TRIGGER:-P1D
ACTION:DISPLAY
DESCRIPTION:Recordatorio: Mantenimiento\, Actualización y
END:VALARM
END:VEVENT
END:VCALENDAR