BEGIN:VCALENDAR
VERSION:2.0
PRODID:-//Contratero//ES
CALSCALE:GREGORIAN
METHOD:PUBLISH
BEGIN:VEVENT
UID:22/034/3@contratero.es
DTSTAMP:20260421T234111Z
DTSTART:20220610T235959
DTEND:20220611T005959
SUMMARY:Cierre: evolución plataforma madrid mobility 360
DESCRIPTION:evolución plataforma madrid mobility 360\\n\\nOrganismo: Empresa Municipal de Transportes de Madrid\, S.A.\\n\\nVer en Contratero: https://contratero.es/contracts/22/034/3
URL:https://contratero.es/contracts/22/034/3
STATUS:CONFIRMED
BEGIN:VALARM
TRIGGER:-P1D
ACTION:DISPLAY
DESCRIPTION:Recordatorio: evolución plataforma madrid mo
END:VALARM
END:VEVENT
END:VCALENDAR