BEGIN:VCALENDAR
VERSION:2.0
PRODID:-//Contratero//ES
CALSCALE:GREGORIAN
METHOD:PUBLISH
BEGIN:VEVENT
UID:22/115/2-SDA-CD019@contratero.es
DTSTAMP:20260424T070009Z
DTSTART:20240417T235959
DTEND:20240418T005959
SUMMARY:Cierre: Suministro de un paquete de software para el contr
DESCRIPTION:Suministro de un paquete de software para el control y la eficiencia del desarrollo del software\\n\\nOrganismo: Empresa Municipal de Transportes de Madrid\, S.A.\\n\\nVer en Contratero: https://contratero.es/contracts/22/115/2-SDA-CD019
URL:https://contratero.es/contracts/22/115/2-SDA-CD019
STATUS:CONFIRMED
BEGIN:VALARM
TRIGGER:-P1D
ACTION:DISPLAY
DESCRIPTION:Recordatorio: Suministro de un paquete de so
END:VALARM
END:VEVENT
END:VCALENDAR