BEGIN:VCALENDAR
VERSION:2.0
PRODID:-//Contratero//ES
CALSCALE:GREGORIAN
METHOD:PUBLISH
BEGIN:VEVENT
UID:22/145/3N@contratero.es
DTSTAMP:20260425T163434Z
DTSTART:20230130T235959
DTEND:20230131T005959
SUMMARY:Cierre: Servicio herramienta gestión protección datos
DESCRIPTION:Servicio herramienta gestión protección datos\\n\\nOrganismo: Empresa Municipal de Transportes de Madrid\, S.A.\\n\\nVer en Contratero: https://contratero.es/contracts/22/145/3N
URL:https://contratero.es/contracts/22/145/3N
STATUS:CONFIRMED
BEGIN:VALARM
TRIGGER:-P1D
ACTION:DISPLAY
DESCRIPTION:Recordatorio: Servicio herramienta gestión p
END:VALARM
END:VEVENT
END:VCALENDAR