BEGIN:VCALENDAR
VERSION:2.0
PRODID:-//Contratero//ES
CALSCALE:GREGORIAN
METHOD:PUBLISH
BEGIN:VEVENT
UID:2207/2025@contratero.es
DTSTAMP:20260419T231748Z
DTSTART:20251003T235959
DTEND:20251004T005959
SUMMARY:Cierre: Suministro\, instalación y migración del hardware y
DESCRIPTION:Suministro\, instalación y migración del hardware y software necesarios para la renovación del entorno de escritorios virtuales de la Diputación Provincial de Zaragoza.\\n\\nOrganismo: Pleno de la Diputación Provincial de Zaragoza\\n\\nVer en Contratero: https://contratero.es/contracts/2207/2025
URL:https://contratero.es/contracts/2207/2025
STATUS:CONFIRMED
BEGIN:VALARM
TRIGGER:-P1D
ACTION:DISPLAY
DESCRIPTION:Recordatorio: Suministro\, instalación y migr
END:VALARM
END:VEVENT
END:VCALENDAR