BEGIN:VCALENDAR
VERSION:2.0
PRODID:-//Contratero//ES
CALSCALE:GREGORIAN
METHOD:PUBLISH
BEGIN:VEVENT
UID:22097/2022@contratero.es
DTSTAMP:20260423T032734Z
DTSTART:20231011T235959
DTEND:20231012T005959
SUMMARY:Cierre: Suministro y mantenimiento de un software de gesti
DESCRIPTION:Suministro y mantenimiento de un software de gestión de oferta pública de empleo en modalidad SAAS (Software as a Service) para el Cabildo Insular de Lanzarote\, cofinanciado por el Fondo de Desarrollo...\\n\\nOrganismo: Presidencia del Cabildo Insular de Lanzarote\\n\\nVer en Contratero: https://contratero.es/contracts/22097/2022
URL:https://contratero.es/contracts/22097/2022
STATUS:CONFIRMED
BEGIN:VALARM
TRIGGER:-P1D
ACTION:DISPLAY
DESCRIPTION:Recordatorio: Suministro y mantenimiento de 
END:VALARM
END:VEVENT
END:VCALENDAR