BEGIN:VCALENDAR
VERSION:2.0
PRODID:-//Contratero//ES
CALSCALE:GREGORIAN
METHOD:PUBLISH
BEGIN:VEVENT
UID:22254/2023@contratero.es
DTSTAMP:20260422T071158Z
DTSTART:20231011T235959
DTEND:20231012T005959
SUMMARY:Cierre: Servicio gestión del proyecto “TodoenRivas”.
DESCRIPTION:Servicio gestión del proyecto “TodoenRivas”.\\n\\nOrganismo: Junta de Gobierno del Ayuntamiento de Rivas Vaciamadrid\\n\\nVer en Contratero: https://contratero.es/contracts/22254/2023
URL:https://contratero.es/contracts/22254/2023
STATUS:CONFIRMED
BEGIN:VALARM
TRIGGER:-P1D
ACTION:DISPLAY
DESCRIPTION:Recordatorio: Servicio gestión del proyecto 
END:VALARM
END:VEVENT
END:VCALENDAR