BEGIN:VCALENDAR
VERSION:2.0
PRODID:-//Contratero//ES
CALSCALE:GREGORIAN
METHOD:PUBLISH
BEGIN:VEVENT
UID:223/2025/27006@contratero.es
DTSTAMP:20260421T171731Z
DTSTART:20260210T235959
DTEND:20260211T005959
SUMMARY:Cierre: Mantenimiento Gestión del Soporte de Verificación 
DESCRIPTION:Mantenimiento Gestión del Soporte de Verificación de Datos Ayuntamiento de Arganda del Rey\\n\\nOrganismo: Alcaldía del Ayuntamiento de Arganda del Rey\\n\\nVer en Contratero: https://contratero.es/contracts/223/2025/27006
URL:https://contratero.es/contracts/223/2025/27006
STATUS:CONFIRMED
BEGIN:VALARM
TRIGGER:-P1D
ACTION:DISPLAY
DESCRIPTION:Recordatorio: Mantenimiento Gestión del Sopo
END:VALARM
END:VEVENT
END:VCALENDAR