BEGIN:VCALENDAR
VERSION:2.0
PRODID:-//Contratero//ES
CALSCALE:GREGORIAN
METHOD:PUBLISH
BEGIN:VEVENT
UID:223/2025@contratero.es
DTSTAMP:20260421T121533Z
DTSTART:20250826T235959
DTEND:20250827T005959
SUMMARY:Cierre: El objeto de este contrato es la prestación de ser
DESCRIPTION:El objeto de este contrato es la prestación de servicios y suministro para la implementación de la infraestructura necesaria para albergar datos y aplicaciones de gestión en una plataforma de alojamie...\\n\\nOrganismo: Consejería Delegada de Aguas de Guadix\, S.A.\\n\\nVer en Contratero: https://contratero.es/contracts/223/2025
URL:https://contratero.es/contracts/223/2025
STATUS:CONFIRMED
BEGIN:VALARM
TRIGGER:-P1D
ACTION:DISPLAY
DESCRIPTION:Recordatorio: El objeto de este contrato es 
END:VALARM
END:VEVENT
END:VCALENDAR