BEGIN:VCALENDAR
VERSION:2.0
PRODID:-//Contratero//ES
CALSCALE:GREGORIAN
METHOD:PUBLISH
BEGIN:VEVENT
UID:223/21@contratero.es
DTSTAMP:20260422T230952Z
DTSTART:20210630T235959
DTEND:20210701T005959
SUMMARY:Cierre: Asistencia técnica para la toma de datos\, actualiz
DESCRIPTION:Asistencia técnica para la toma de datos\, actualización y mantenimiento de abonados a los servicios de recogida de residuos y ciclo integral del agua\, para municipios consorciados y adheridos a dichos...\\n\\nOrganismo: Consorcio de Gestión de Servicios Medioambientales de Badajoz\\n\\nVer en Contratero: https://contratero.es/contracts/223/21
URL:https://contratero.es/contracts/223/21
STATUS:CONFIRMED
BEGIN:VALARM
TRIGGER:-P1D
ACTION:DISPLAY
DESCRIPTION:Recordatorio: Asistencia técnica para la tom
END:VALARM
END:VEVENT
END:VCALENDAR