BEGIN:VCALENDAR
VERSION:2.0
PRODID:-//Contratero//ES
CALSCALE:GREGORIAN
METHOD:PUBLISH
BEGIN:VEVENT
UID:22554/2020@contratero.es
DTSTAMP:20260419T205944Z
DTSTART:20220422T235959
DTEND:20220423T005959
SUMMARY:Cierre: Diseño\, suministro instalación\, puesta en marcha\, 
DESCRIPTION:Diseño\, suministro instalación\, puesta en marcha\, soporte y aseguramiento de la posterior operatividad de la solución integral “SMART ORIHUELA” en una fase inicial\, que estará conformada de los siguie...\\n\\nOrganismo: Junta de Gobierno del Ayuntamiento de Orihuela\\n\\nVer en Contratero: https://contratero.es/contracts/22554/2020
URL:https://contratero.es/contracts/22554/2020
STATUS:CONFIRMED
BEGIN:VALARM
TRIGGER:-P1D
ACTION:DISPLAY
DESCRIPTION:Recordatorio: Diseño\, suministro instalación
END:VALARM
END:VEVENT
END:VCALENDAR